Workbook

Sheet PROGRAMME AT A GLANCE
A1: PROGRAMME AT A GLANCE
A3: ='15 Oct 2026'!A2&" | ORAL PRESENTATIONS" -> THURSDAY, 15 OCTOBER 2026 | ORAL PRESENTATIONS
A4: TIME | B4: SESSION | C4: SESSION CHAIR | D4: PRESENTATIONS
A5: =TEXT('15 Oct 2026'!A6,"h:mm")&" – "&TEXT('15 Oct 2026'!A11+TIME(0,10,0),"h:mm") -> 9:00 – 10:00 | B5: =IFERROR(_xlfn.TEXTBEFORE('15 Oct 2026'!A5," – CHAIR: "),'15 Oct 2026'!A5) -> A. SESSION: ENERGY SYSTEMS & GREEN TECHNOLOGIES | C5: =IFERROR(_xlfn.TEXTAFTER('15 Oct 2026'!A5," – CHAIR: "),"") -> CATHERINA SCHENCK (UNIVERSITY OF THE WESTERN CAPE) | D5: =COUNT('15 Oct 2026'!B6:B11)&" ORAL" -> 6 ORAL
A6: =TEXT('15 Oct 2026'!A12,"h:mm")&" – "&TEXT('15 Oct 2026'!A14,"h:mm") -> 10:00 – 10:30 | B6: COFFEE BREAK & REFRESHMENTS
A7: =TEXT('15 Oct 2026'!A14,"h:mm")&" – "&TEXT('15 Oct 2026'!A19+TIME(0,10,0),"h:mm") -> 10:30 – 11:30 | B7: =IFERROR(_xlfn.TEXTBEFORE('15 Oct 2026'!A13," – CHAIR: "),'15 Oct 2026'!A13) -> B. SESSION: SELF-HEALING COMPOSITES & ADVANCED MATERIALS | C7: =IFERROR(_xlfn.TEXTAFTER('15 Oct 2026'!A13," – CHAIR: "),"") -> WALEED ASLAM (PAKISTAN SPACE AND UPPER ATMOSPHERE RESEARCH COMMISSION (SUPARCO)) | D7: =COUNT('15 Oct 2026'!B14:B19)&" ORAL" -> 6 ORAL
A8: =TEXT('15 Oct 2026'!A20,"h:mm")&" – "&TEXT('15 Oct 2026'!A22,"h:mm") -> 11:30 – 11:50 | B8: COFFEE BREAK & REFRESHMENTS
A9: =TEXT('15 Oct 2026'!A22,"h:mm")&" – "&TEXT('15 Oct 2026'!A27+TIME(0,10,0),"h:mm") -> 11:50 – 12:50 | B9: =IFERROR(_xlfn.TEXTBEFORE('15 Oct 2026'!A21," – CHAIR: "),'15 Oct 2026'!A21) -> C. SESSION: ADVANCED MANUFACTURING, COMPOSITES & BIOMEDICAL ENGINEERING | C9: =IFERROR(_xlfn.TEXTAFTER('15 Oct 2026'!A21," – CHAIR: "),"") -> KEMAL ÇAĞATAY SELVI (ONDOKUZ MAYIS UNIVERSITY) | D9: =COUNT('15 Oct 2026'!B22:B27)&" ORAL" -> 6 ORAL
A10: =TEXT('15 Oct 2026'!A28,"h:mm")&" – "&TEXT('15 Oct 2026'!A30,"h:mm") -> 12:50 – 14:00 | B10: LUNCH BREAK
A11: =TEXT('15 Oct 2026'!A30,"h:mm")&" – "&TEXT('15 Oct 2026'!A37+TIME(0,10,0),"h:mm") -> 14:00 – 15:20 | B11: =IFERROR(_xlfn.TEXTBEFORE('15 Oct 2026'!A29," – CHAIR: "),'15 Oct 2026'!A29) -> D. SESSION: HYDROLOGY, WATER QUALITY & WASTEWATER TREATMENT | C11: =IFERROR(_xlfn.TEXTAFTER('15 Oct 2026'!A29," – CHAIR: "),"") -> CEM TOKATLI (TRAKYA UNIVERSITY) | D11: =COUNT('15 Oct 2026'!B30:B37)&" ORAL" -> 8 ORAL
A12: =TEXT('15 Oct 2026'!A38,"h:mm")&" – "&TEXT('15 Oct 2026'!A40,"h:mm") -> 15:20 – 15:30 | B12: COFFEE BREAK & REFRESHMENTS
A13: =TEXT('15 Oct 2026'!A40,"h:mm")&" – "&TEXT('15 Oct 2026'!A47+TIME(0,10,0),"h:mm") -> 15:30 – 16:50 | B13: =IFERROR(_xlfn.TEXTBEFORE('15 Oct 2026'!A39," – CHAIR: "),'15 Oct 2026'!A39) -> E. SESSION: ENVIRONMENTAL MONITORING, ECOLOGY & PLANT SCIENCES | C13: =IFERROR(_xlfn.TEXTAFTER('15 Oct 2026'!A39," – CHAIR: "),"") -> ERKAY ÖZGÖR (CYPRUS INTERNATIONAL UNIVERSITY) | D13: =COUNT('15 Oct 2026'!B40:B47)&" ORAL" -> 8 ORAL
A14: =TEXT('15 Oct 2026'!A48,"h:mm")&" – "&TEXT('15 Oct 2026'!A50,"h:mm") -> 16:50 – 17:00 | B14: COFFEE BREAK & REFRESHMENTS
A15: =TEXT('15 Oct 2026'!A50,"h:mm")&" – "&TEXT('15 Oct 2026'!A55+TIME(0,10,0),"h:mm") -> 17:00 – 18:00 | B15: =IFERROR(_xlfn.TEXTBEFORE('15 Oct 2026'!A49," – CHAIR: "),'15 Oct 2026'!A49) -> F. SESSION: SUSTAINABILITY, SOCIETY & ENVIRONMENTAL POLICY | C15: =IFERROR(_xlfn.TEXTAFTER('15 Oct 2026'!A49," – CHAIR: "),"") -> COPOLOVICI DANA-MARIA (AUREL VLAICU UNIVERSITY OF ARAD) | D15: =COUNT('15 Oct 2026'!B50:B55)&" ORAL" -> 6 ORAL
A17: ='16 Oct 2026'!A2&" | ONLINE PRESENTATIONS" -> FRIDAY, 16 OCTOBER 2026 | ONLINE PRESENTATIONS
A18: TIME | B18: SESSION | C18: SESSION CHAIR | D18: PRESENTATIONS
A19: =TEXT('16 Oct 2026'!A6,"h:mm")&" – "&TEXT('16 Oct 2026'!A16+TIME(0,10,0),"h:mm") -> 9:00 – 10:50 | B19: =IFERROR(_xlfn.TEXTBEFORE('16 Oct 2026'!A5," – CHAIR: "),'16 Oct 2026'!A5) -> A. ONLINE SESSION: COMPUTER SCIENCE & ARTIFICIAL INTELLIGENCE | C19: =IFERROR(_xlfn.TEXTAFTER('16 Oct 2026'!A5," – CHAIR: "),"") -> ALMA LIGATA | D19: =COUNT('16 Oct 2026'!B6:B16)&" ONLINE" -> 11 ONLINE
A20: =TEXT('16 Oct 2026'!A18,"h:mm")&" – "&TEXT('16 Oct 2026'!A23+TIME(0,10,0),"h:mm") -> 10:50 – 11:50 | B20: =IFERROR(_xlfn.TEXTBEFORE('16 Oct 2026'!A17," – CHAIR: "),'16 Oct 2026'!A17) -> B. ONLINE SESSION: ENERGY, MECHANICAL & STRUCTURAL ENGINEERING | C20: =IFERROR(_xlfn.TEXTAFTER('16 Oct 2026'!A17," – CHAIR: "),"") -> ALMA LIGATA | D20: =COUNT('16 Oct 2026'!B18:B23)&" ONLINE" -> 6 ONLINE
A21: =TEXT('16 Oct 2026'!A25,"h:mm")&" – "&TEXT('16 Oct 2026'!A38+TIME(0,10,0),"h:mm") -> 11:50 – 14:10 | B21: =IFERROR(_xlfn.TEXTBEFORE('16 Oct 2026'!A24," – CHAIR: "),'16 Oct 2026'!A24) -> C. ONLINE SESSION: ENVIRONMENT, HEALTH & SOCIETY | C21: =IFERROR(_xlfn.TEXTAFTER('16 Oct 2026'!A24," – CHAIR: "),"") -> ALMA LIGATA | D21: =COUNT('16 Oct 2026'!B25:B38)&" ONLINE" -> 14 ONLINE
A23: ='Poster Presentations'!A2&" | POSTER PRESENTATIONS" -> THURSDAY, 15 OCTOBER 2026 | POSTER PRESENTATIONS
A24: TIME | B24: SESSION | C24: VENUE | D24: PRESENTATIONS
A25: ='Poster Presentations'!C4 -> 11:00 – 13:00 | B25: ='Poster Presentations'!A10 -> A. SESSION - POSTER PRESENTATIONS (11:00 - 13:00) | C25: ='Poster Presentations'!C5 -> YUNUS EMRE INSTITUTE SARAJEVO | D25: =COUNTA('Poster Presentations'!B13:B31)-COUNTIF('Poster Presentations'!B13:B31,"CODE")&" POSTER" -> 16 POSTER

Sheet 15 Oct 2026
A1: PRESENTATION SCHEDULE
A2: =UPPER(TEXT(DATE(2026,10,15),"dddd, d mmmm yyyy")) -> THURSDAY, 15 OCTOBER 2026
A4: TIME | B4: CODE | C4: TITLE | D4: AUTHORS | E4: INSTITUTION | F4: COUNTRY
A5: A. SESSION: ENERGY SYSTEMS & GREEN TECHNOLOGIES – CHAIR: CATHERINA SCHENCK (UNIVERSITY OF THE WESTERN CAPE)
A6: 0.375 | B6: 2902 | C6: THE IMPACT OF HOURLY PTF FLUCTUATIONS ON SOLAR POWER PLANT REVENUES: A CASE STUDY OF A FACILITY WHOSE YEKDEM TERM HAS EXPIRED | D6: FATMA İREM KANDILCIK, FURKAN DINÇER | E6: AKEDAŞ ELECTRICITY DISTRIBUTION INC., KAHRAMANMARAŞ, TÜRKİYE | F6: TÜRKİYE
A7: =A6+TIME(0,10,0) -> 0.38194444 | B7: 2903 | C7: INVESTIGATION OF THE EFFECTS OF SEASONAL SOILING LOSSES ON PHOTOVOLTAIC POWER PLANT PERFORMANCE USING PVSYST | D7: FURKAN DINÇER | E7: KAHRAMANMARAŞ SÜTÇÜ İMAM UNIVERSITY | F7: TÜRKİYE
A8: =A7+TIME(0,10,0) -> 0.38888889 | B8: 2904 | C8: ASSESSMENT OF THE APPLICABILITY OF STAND-ALONE BATTERY ENERGY STORAGE SYSTEMS IN THE TURKISH ELECTRICITY MARKET | D8: AHMET SERDAR YILMAZ, OĞUZ CEM TATAR, FURKAN DİNÇER | E8: KAHRAMANMARAŞ SÜTÇÜ İMAM UNIVERSITY | F8: TÜRKİYE
A9: =A8+TIME(0,10,0) -> 0.39583333 | B9: 2905 | C9: COMPARATIVE COST ANALYSIS IN HYBRID POWER GENERATION SYSTEMS | D9: AHMET SERDAR YILMAZ, RÜMEYSA AYBÜKE KORKMAZ | E9: KAHRAMANMARAŞ SÜTÇÜ İMAM UNIVERSITY | F9: TÜRKİYE
A10: =A9+TIME(0,10,0) -> 0.40277778 | B10: 873 | C10: MACHINE LEARNING-BASED PREDICTION OF CO₂ ADSORPTION PERFORMANCE IN METAL–ORGANIC FRAMEWORK | D10: UGUR OZVEREN, İDIL SENA BAYRAK | E10: MARMARA UNIVERSITY | F10: TÜRKİYE
A11: =A10+TIME(0,10,0) -> 0.40972222 | B11: 874 | C11: MACHINE LEARNING PREDICTION OF WATER UPTAKE IN METAL–ORGANIC FRAMEWORKS FOR ATMOSPHERIC WATER HARVESTING | D11: UGUR OZVEREN, DICLE EREN | E11: MARMARA UNIVERSITY | F11: TÜRKİYE
A12: =A11+TIME(0,10,0) -> 0.41666667 | B12: ="COFFEE BREAK & REFRESHMENTS · "&TEXT(A12,"h:mm")&" – "&TEXT(A14,"h:mm") -> COFFEE BREAK & REFRESHMENTS · 10:00 – 10:30
A13: B. SESSION: SELF-HEALING COMPOSITES & ADVANCED MATERIALS – CHAIR: WALEED ASLAM (PAKISTAN SPACE AND UPPER ATMOSPHERE RESEARCH COMMISSION (SUPARCO))
A14: =A12+TIME(0,30,0) -> 0.4375 | B14: 2913 | C14: DEVELOPMENT OF A HYBRID ACTUATION PLATFORM INTEGRATING A STEPPER MOTOR AND SOLENOID FOR FLOW REGULATION AND VALVE APPLICATIONS IN MICROFLUIDIC CHIPS | D14: SÜLEYMAN EMIR KILIÇASLAN, MEHMET IHSAN HEKIMHAN, ASLI AYBIKE DOGAN, ECEM SAYGILI | E14: İZMIR DEMOCRACY UNIVERSITY | F14: TÜRKİYE
A15: =A14+TIME(0,10,0) -> 0.44444444 | B15: 763 | C15: DEVELOPMENT OF A DISULFIDE-MODIFIED EPOXY/PDMS HYBRID COMPOSITE: THERMAL ACTIVATION OF INTRINSIC SELF-HEALING FOR SPACE APPLICATIONS | D15: WALEED ASLAM, DR. SOBIA A. RAKHA, DR. SYED AMER AHSAN GILANI, ABEERA SOHAIL | E15: PAKISTAN SPACE AND UPPER ATMOSPHERE RESEARCH COMMISSION (SUPARCO) | F15: PAKISTAN
A16: =A15+TIME(0,10,0) -> 0.45138889 | B16: 764 | C16: RECOVERY OF FLEXURAL STRENGTH IN SELF-HEALING COMPOSITES: A COMPREHENSIVE VALIDATION OF A REVERSIBLE COVALENT NETWORK IN STRUCTURAL COMPOSITES | D16: WALEED ASLAM, DR. SOBIA A. RAKHA, DR. SYED AMER AHSAN GILANI, UMAR SHAUKAT | E16: PAKISTAN SPACE AND UPPER ATMOSPHERE RESEARCH COMMISSION (SUPARCO) | F16: PAKISTAN
A17: =A16+TIME(0,10,0) -> 0.45833333 | B17: 871 | C17: PHYSICS-INFORMED XGBOOST MODELING OF 5-FLUOROURACIL RELEASE FROM COLON-TARGETED NANOPARTICLES USING DUAL-VERIFIED LITERATURE DATA | D17: UGUR OZVEREN, TUGCE DIRICANLI | E17: MARMARA UNIVERSITY | F17: TÜRKİYE
A18: =A17+TIME(0,10,0) -> 0.46527778 | B18: 767 | C18: ASSESSMENT OF POST-IRRADIATION HEALING EFFICIENCY OF DISULFIDE EPOXY/PDMS HYBRID COMPOSITES FOR SATELLITE STRUCTURES. | D18: WALEED ASLAM, DR. SOBIA A. RAKHA, DR. SYED AMER AHSAN GILANI, UMAR SHAUKAT | E18: PAKISTAN SPACE AND UPPER ATMOSPHERE RESEARCH COMMISSION (SUPARCO) | F18: PAKISTAN
A19: =A18+TIME(0,10,0) -> 0.47222222 | B19: 2917 | C19: DESIGN AND MANUFACTURING OF ARTIFICIAL COMPOSITE STONE USING WASTE LIMESTONE AND GLASS-BASED REINFORCEMENTS | D19: ŞÜKRÜ ÇETINKAYA | E19: DICLE UNIVERSITY | F19: TÜRKİYE
A20: =A19+TIME(0,10,0) -> 0.47916667 | B20: ="COFFEE BREAK & REFRESHMENTS · "&TEXT(A20,"h:mm")&" – "&TEXT(A22,"h:mm") -> COFFEE BREAK & REFRESHMENTS · 11:30 – 11:50
A21: C. SESSION: ADVANCED MANUFACTURING, COMPOSITES & BIOMEDICAL ENGINEERING – CHAIR: KEMAL ÇAĞATAY SELVI (ONDOKUZ MAYIS UNIVERSITY)
A22: =A20+TIME(0,20,0) -> 0.49305556 | B22: 2899 | C22: INDUCTION WELDING OF ABS AND PLA SHEETS | D22: ÖZKAN ÖZ, MOHAMED ELHASHMI | E22: KARABÜK UNIVERSITY | F22: TÜRKİYE
A23: =A22+TIME(0,10,0) -> 0.5 | B23: 765 | C23: COMPARATIVE STUDY: INFLUENCE OF PDMS AND DISULFIDE CONTENT ON THE CHEMICAL AND MECHANICAL EFFICIENCY OF CARBON FIBER COMPOSITES | D23: WALEED ASLAM, DR. SOBIA A. RAKHA, DR. SYED AMER AHSAN GILANI, UMAR SHAUKAT | E23: PAKISTAN SPACE AND UPPER ATMOSPHERE RESEARCH COMMISSION (SUPARCO) | F23: PAKISTAN
A24: =A23+TIME(0,10,0) -> 0.50694444 | B24: 2891 | C24: PREDICTING THE THERMAL BEHAVIOR OF SUSTAINABLE BIOCOMPOSITE FILMS USING FINITE ELEMENT SIMULATION | D24: KEMAL ÇAĞATAY SELVI, EHSAN FARTASH NAEIMI, ÖNDER KABAŞ | E24: ONDOKUZ MAYIS UNIVERSITY | F24: TÜRKİYE
A25: =A24+TIME(0,10,0) -> 0.51388889 | B25: 762 | C25: COMPUTATIONAL PRE-SYNTHESIS VALIDATION OF A DISULFIDE-EPOXY/PDMS SELF-HEALING COMPOSITE FOR SPACE STRUCTURES. | D25: WALEED ASLAM, DR. SOBIA A. RAKHA, DR. SYED AMER AHSAN GILANI | E25: PAKISTAN SPACE AND UPPER ATMOSPHERE RESEARCH COMMISSION (SUPARCO) | F25: PAKISTAN
A26: =A25+TIME(0,10,0) -> 0.52083333 | B26: 2911 | C26: ANTIMICROBIAL PHOTODYNAMIC THERAPY AGAINST ANTIBIOTIC RESISTANCE: DETERMINING AN EFFECTIVE ANTIMICROBIAL APPROACH AGAINST MRSA AND E. COLI | D26: AYŞENUR IŞIK, AYŞE ŞEK, GİZEM ÖZGÜR, REYHAN ERÇETİN, BURÇİN KARABEY, ECEM SAYGILI | E26: İZMIR DEMOCRACY UNIVERSITY | F26: TÜRKİYE
A27: =A26+TIME(0,10,0) -> 0.52777778 | B27: 766 | C27: GAMMA RADIATION TOLERANCE OF SELF-HEALING CFRP COMPOSITES: COMPARATIVE ANALYSIS OF PDMS-MODIFIED AND CONVENTIONAL EPOXY MATRICES UNDER LOW DOSE RATE EXPOSURE | D27: WALEED ASLAM, DR. SOBIA A. RAKHA, DR. SYED AMER AHSAN GILANI, ABEERA SOHAIL | E27: PAKISTAN SPACE AND UPPER ATMOSPHERE RESEARCH COMMISSION (SUPARCO) | F27: PAKISTAN
A28: =A27+TIME(0,10,0) -> 0.53472222 | B28: ="LUNCH BREAK · "&TEXT(A28,"h:mm")&" – "&TEXT(A30,"h:mm") -> LUNCH BREAK · 12:50 – 14:00
A29: D. SESSION: HYDROLOGY, WATER QUALITY & WASTEWATER TREATMENT – CHAIR: CEM TOKATLI (TRAKYA UNIVERSITY)
A30: =A28+TIME(1,10,0) -> 0.58333333 | B30: 1069 | C30: EVENT-BASED ASSESSMENT OF RAINFALL–WATER DEPTH–TURBIDITY DYNAMICS AT THE OUTLET OF AN AGRICULTURAL DRAINAGE CATCHMENT IN THE CUKUROVA REGION, TÜRKIYE | D30: MUHAMMET SAİD GOLPINAR, MAHMUT CETIN, OMAR ALSENJAR, MUZAFFER DALGIC | E30: ÇUKUROVA UNIVERSITY | F30: TÜRKİYE
A31: =A30+TIME(0,10,0) -> 0.59027778 | B31: 2900 | C31: CELL ORIENTATION SWITCHES AND RELATIVE DENSITY TUNES THE AUXETIC RESPONSE OF A HYBRID MINIMAL-SURFACE LATTICE | D31: GÜLCAN AYDIN, İDRIS CANDAN, SAİT EREN SAN | E31: KOCAELI UNIVERSITY, FACULTY OF ARTS AND SCIENCES, DEPARTMENT OF PHYSICS, KOCAELI, TÜRKİYE | F31: TÜRKİYE
A32: =A31+TIME(0,10,0) -> 0.59722222 | B32: 880 | C32: LOW IMPACT DEVELOPMENT AND SPONGE-CITY ADAPTATION FOR URBAN STORMWATER RETENTION IN DHAKA: ASSESSING THE HATIRJHEEL-GULSHAN-BANANI LAKE SYSTEM | D32: MOHAMMAD MAHABUBUL HAQUE, DR. MD. SIRAJUL ISLAM, PIASH KUMER GHOSH, TANWI DEY | E32: NORTH SOUTH UNIVERSITY, DEPARTMENT OF CIVIL AND ENVIRONMENTAL ENGINEERING, BANGLADESH | F32: BANGLADESH
A33: =A32+TIME(0,10,0) -> 0.60416667 | B33: 887 | C33: ASSESSMENT OF COMPLEX NUTRIENT DYNAMICS IN THE FELENT STREAM WATERSHED: A MULTISTATISTICAL APPROACH TO INFORM LOCAL ENVIRONMENTAL MANAGEMENT | D33: CEM TOKATLI, AHMET BAHTIYAR ARVAS, RAHMATULLAH HAKIMI | E33: TRAKYA UNIVERSITY | F33: TÜRKİYE
A34: =A33+TIME(0,10,0) -> 0.61111111 | B34: 865 | C34: EVALUATING WATER QUALITY AND CONTAMINATION RISKS IN ENEZ DALYAN LAGOON (TÜRKIYE) VIA MODIFIED NUTRIENT POLLUTION INDICES | D34: CEM TOKATLI | E34: TRAKYA UNIVERSITY | F34: TÜRKİYE
A35: =A34+TIME(0,10,0) -> 0.61805556 | B35: 2901 | C35: HOW MUCH OF A HOMOGENIZED PREDICTION SURVIVES IN A PRINTED LATTICE? | D35: GÜLCAN AYDIN, İDRIS CANDAN, SAIT EREN SAN | E35: KOCAELI UNIVERSITY, FACULTY OF ARTS AND SCIENCES, DEPARTMENT OF PHYSICS, KOCAELI, TÜRKİYE | F35: TÜRKİYE
A36: =A35+TIME(0,10,0) -> 0.625 | B36: 1042 | C36: MICROBIAL COMMUNITIES INTERACTIONS IN FLOATING TREATMENT WETLANDS (FTW) INTEGRATED WITH MICROBIAL FUEL CELLS (MFCS) DURING HEAVY METAL REMOVAL | D36: SLAWOMIR CIESIELSKI, NICOLE NAWROT, PRZEMYSŁAW KOWAL, JOANNA STRYCHARZ, BARTOSZ SZELĄG, EWA WOJCIECHOWSKA | E36: UNIVERSITY OF WARMIA AND MAZURY IN OLSZTYN | F36: POLAND
A37: =A36+TIME(0,10,0) -> 0.63194444 | B37: 878 | C37: INVESTIGATING THE ADSORPTION THERMODYNAMICS OF PB(II) REMOVAL USING SODIUM ALGINATE/ZIF-8 COMPOSITE HYDROGELS | D37: UGUR OZVEREN, DERYA OZAN KAYA | E37: MARMARA UNIVERSITY | F37: TÜRKİYE
A38: =A37+TIME(0,10,0) -> 0.63888889 | B38: ="COFFEE BREAK & REFRESHMENTS · "&TEXT(A38,"h:mm")&" – "&TEXT(A40,"h:mm") -> COFFEE BREAK & REFRESHMENTS · 15:20 – 15:30
A39: E. SESSION: ENVIRONMENTAL MONITORING, ECOLOGY & PLANT SCIENCES – CHAIR: ERKAY ÖZGÖR (CYPRUS INTERNATIONAL UNIVERSITY)
A40: =A38+TIME(0,10,0) -> 0.64583333 | B40: 1070 | C40: PRELIMINARY FINDINGS ON MICROPLASTIC SPECIES ACROSS URBAN AIRBORNE PARTICLE FRACTIONS IN ISTANBUL | D40: NEDIME GAYE NUR BALKANLI, ELIF YAVUZ, AFSIN YUSUF CETINKAYA, EMRAH SIK, S. LEVENT KUZU | E40: YILDIZ TECHNICAL UNIVERSITY, FACULTY OF CIVIL ENGINEERING, DEPARTMENT OF ENVIRONMENTAL ENGINEERING | F40: TÜRKİYE
A41: =A40+TIME(0,10,0) -> 0.65277778 | B41: 1064 | C41: ELEMENTAL DIFFERENCES IN SCOTS PINE NEEDLES FROM THE MOHOȘ AND FÂNTÂNA DINTRE BRAZI PEAT BOGS | D41: ANDREEA-REBEKA ZSIGMOND, CSENGE-FRUZSINA TOBIS, ISTVÁN URÁK | E41: SAPIENTIA HUNGARIAN UNIVERSITY OF TRANSYLVANIA | F41: ROMANIA
A42: =A41+TIME(0,10,0) -> 0.65972222 | B42: 1068 | C42: DIATOMS AS INDICATORS OF EARLY-STAGE ECOLOGICAL CHANGE IN THE MOHOS PEAT BOG, ROMANIA | D42: SZIGYÁRTÓ IRMA LIDIA, ZSIGMOND ANDREEA REBEKA, ÖRDÖG ZOLTÁN ZSOLT, URÁK ISTVÁN | E42: SAPIENTIA HUNGARIAN UNIVERSITY OF TRANSYLVANIA, FACULTY OF LIFE SCIENCES AND SPORTS, SFÂNTU GHEORGHE | F42: ROMANIA
A43: =A42+TIME(0,10,0) -> 0.66666667 | B43: 1045 | C43: URBAN FORESTRY STRATEGIES FOR REPURPOSING CAMPUS TERRAIN VAGUE: THE CASE OF DÜZCE UNIVERSITY CAMPUS | D43: YAŞAR SELMAN GÜLTEKIN, ÖZCAN AKIN | E43: DÜZCE UNIVERSITY | F43: TÜRKİYE
A44: =A43+TIME(0,10,0) -> 0.67361111 | B44: 1063 | C44: ENVIRONMENTAL PERFORMANCE OF PADDY RICE PRODUCTION IN TÜRKİYE: A LIFE CYCLE ASSESSMENT APPROACH | D44: MERVE TEMIZYUREK ARSLAN, JACOPO BACENETTI | E44: ERCIYES UNIVERSITY | F44: TÜRKİYE
A45: =A44+TIME(0,10,0) -> 0.68055556 | B45: 2907 | C45: CLIMATE CHANGE AND SOIL-PLANT NUTRIENT DYNAMICS: A REVIEW OF IMPACTS AND ADAPTIVE STRATEGIES | D45: SENAY AYDIN, BULENT YAGMUR, EMINE DILSAT YEGENOGLU | E45: MANISA CELAL BAYAR UNIVERSITY, ALAŞEHIR VOCATIONAL SCHOOL | F45: TÜRKİYE
A46: =A45+TIME(0,10,0) -> 0.6875 | B46: 2895 | C46: DETERMINATION OF POWDERY MILDEW DISEASE TOLERANCE IN SOME LOCAL GRAPE GENOTYPES COLLECTED FROM MOROCCO USING MOLECULAR MARKERS | D46: AYDIN UZUN, OSAMA KODAD, HASAN PINAR, ARIF ATAK, HASAN TALHA UNSAL | E46: ERCIYES UNIVERSITY | F46: TÜRKİYE
A47: =A46+TIME(0,10,0) -> 0.69444444 | B47: 1036 | C47: ENVIRONMENTAL DATA-DRIVEN ANALYSIS OF CLIMATE EFFECTS ON THE ANTIMICROBIAL AND BIOACTIVE PROPERTIES OF HONEYBEE-DERIVED COMPOUNDS | D47: ERKAY ÖZGÖR | E47: CYPRUS INTERNATIONAL UNIVERSITY | F47: CYPRUS (TRNC)
A48: =A47+TIME(0,10,0) -> 0.70138889 | B48: ="COFFEE BREAK & REFRESHMENTS · "&TEXT(A48,"h:mm")&" – "&TEXT(A50,"h:mm") -> COFFEE BREAK & REFRESHMENTS · 16:50 – 17:00
A49: F. SESSION: SUSTAINABILITY, SOCIETY & ENVIRONMENTAL POLICY – CHAIR: COPOLOVICI DANA-MARIA (AUREL VLAICU UNIVERSITY OF ARAD)
A50: =A48+TIME(0,10,0) -> 0.70833333 | B50: 1061 | C50: PATENT LANDSCAPE OF SNAIL-DERIVED PRODUCTS AND PROCESSING BY-PRODUCTS IN THE CIRCULAR BIOECONOMY | D50: COPOLOVICI DANA-MARIA, MOISA CRISTIAN, LUPITU ANDREEA, BORTES FLAVIA, COPOLOVICI LUCIAN | E50: AUREL VLAICU UNIVERSITY OF ARAD, FACULTY OF FOOD ENGINEERING, TOURISM AND ENVIRONMENTAL PROTECTION | F50: ROMANIA
A51: =A50+TIME(0,10,0) -> 0.71527778 | B51: 1041 | C51: ENVIRONMENTAL BUSINESS MODELS IN TOURISM: INTEGRATING DIGITAL AND SUSTAINABLE ECOSYSTEMS | D51: JASMINA GRŽINIĆ | E51: JURAJ DOBRILA UNIVERSITY OF PULA | F51: CROATIA
A52: =A51+TIME(0,10,0) -> 0.72222222 | B52: 1053 | C52: CYBER ATTACKS ON SHIPS: ENVIRONMENTAL THREATS, CASE STUDIES, AND PROPOSED SOLUTIONS | D52: TAYFUN ACARER, MURAT SAKA | E52: PIRI REIS UNIVERSITY | F52: TÜRKİYE
A53: =A52+TIME(0,10,0) -> 0.72916667 | B53: 884 | C53: THE IMPACT OF SUBSTITUTING NATURAL AGGREGATES WITH RECYCLED CONCRETE AGGREGATES DERIVED FROM POST-EARTHQUAKE CONTROLLED DEMOLITIONS | D53: KADIR ÖZÇELIK, MERVE AKBAS, RECEP IYISAN, OSMAN ATILLA ARIKAN | E53: İSTANBUL TECHNICAL UNIVERSITY, DEPARTMENT OF ENVIRONMENTAL ENGINEERING | F53: TÜRKİYE
A54: =A53+TIME(0,10,0) -> 0.73611111 | B54: 864 | C54: LIVING INFORMALLY WITH WASTE: THE CASE OF BACKYARD DWELLERS IN SOUTH AFRICA | D54: CATHERINA SCHENCK | E54: UNIVERSITY OF THE WESTERN CAPE | F54: SOUTH AFRICA
A55: =A54+TIME(0,10,0) -> 0.74305556 | B55: 885 | C55: THE IMPERATIVE OF RESPONSIBILITY: RE-EVALUATING HANS JONAS’S ECO-PHILOSOPHY IN THE ERA OF ANTHROPOCENE AND SUSTAINABLE DEVELOPMENT | D55: MARIÁN AMBROZY | E55: INSTITUTE OF TECHNOLOGY AND BUSINESS (PREŠOV) | F55: SLOVAKIA

Sheet 16 Oct 2026
A1: ONLINE PRESENTATION SCHEDULE
A2: =UPPER(TEXT(DATE(2026,10,16),"dddd, d mmmm yyyy")) -> FRIDAY, 16 OCTOBER 2026
A4: TIME | B4: CODE | C4: TITLE | D4: AUTHORS | E4: INSTITUTION | F4: COUNTRY
A5: A. ONLINE SESSION: COMPUTER SCIENCE & ARTIFICIAL INTELLIGENCE – CHAIR: ALMA LIGATA
A6: =TIME(9,0,0) -> 0.375 | B6: 2893 | C6: THE ORIGINS AND EVOLUTION OF CHATBOTS IN THE CONTEXT OF HUMAN-MACHINE INTERACTION | D6: NAZLI GÜLŞAH CIMILLI, AYTEKIN ÇOKELEZ | E6: ISTANBUL TECHNICAL UNIVERSITY, GRADUATE SCHOOL, DEPARTMENT OF HISTORY OF SCIENCE AND TECHNOLOGY, PHD PROGRAM | F6: TÜRKİYE
A7: =A6+TIME(0,10,0) -> 0.38194444 | B7: 2914 | C7: PILOT STUDY ON A LARGE LANGUAGE MODEL FOR CLASSIFICATION AND CORRECTION OF ARABIC LINGUISTIC ERRORS BY NATIVE TURKISH SPEAKERS | D7: AYŞEN ÖZÜN TÜRKÇETIN, İREM USLU | E7: SULEYMAN DEMIREL UNIVERSITY | F7: TÜRKİYE
A8: =A7+TIME(0,10,0) -> 0.38888889 | B8: 2915 | C8: YOLO-BASED OBJECT LOCALIZATION FOR TURKISH–ARABIC VISUAL VOCABULARY LEARNING: A PILOT STUDY USING SNAPTATE AI | D8: AYŞEN ÖZÜN TÜRKÇETIN, İREM USLU | E8: SULEYMAN DEMIREL UNIVERSITY | F8: TÜRKİYE
A9: =A8+TIME(0,10,0) -> 0.39583333 | B9: 768 | C9: A FRAMEWORK FOR AN INTERNET OF THINGS-BASED POST-HARVEST DECISION SUPPORT SYSTEM FOR MAIZE FARMERS | D9: SOLOMON ADELOWO ADEPOJU, EENESI FEMI AMINU, OLUWASEUN ADENIYI OJERINDE, OPEYEMI ADERIIKE ABISOYE, AYOBAMI EKUNDAYO, RABIU OMEIZA ISAH, MUHAMMADU TAJUDEEN SALAUDEEN, UCHENNA UGWUOKE | E9: FEDERAL UNIVERSITY OF TECHNOLOGY MINNA | F9: NIGERIA
A10: =A9+TIME(0,10,0) -> 0.40277778 | B10: 772 | C10: CLASSIFICATION OF FAMILIAL AND SPORADIC NEUROGENETIC DISEASE CASES BY USING CLINICAL SYMPTOMS AND MACHINE LEARNING | D10: MURSIDE DEGİRMENCİ AKDENİZ | E10: KUTAHYA HEALTH SCIENCE UNIVERSITY | F10: TÜRKİYE
A11: =A10+TIME(0,10,0) -> 0.40972222 | B11: 759 | C11: AI-BASED QUALITY CONTROL IN PLASTIC INJECTION MOLDING: A REVIEW OF PREDICTION, DEFECT DETECTION AND OPTIMIZATION | D11: ENES DÜNDAR, NECMİ CEMAL ÖZDEMİR | E11: KOCAELI UNIVERSITY | F11: TÜRKİYE
A12: =A11+TIME(0,10,0) -> 0.41666667 | B12: 2910 | C12: SEISMIC RESPONSE PREDICTION OF BILINEAR HYSTERETIC SYSTEMS USING A PHYSICS-INTEGRATED RECURRENT NEURAL NETWORK | D12: TIANYUAN JIANG, CANXING QIU | E12: BEIJING UNIVERSITY OF TECHNOLOGY | F12: CHINA
A13: =A12+TIME(0,10,0) -> 0.42361111 | B13: 2889 | C13: QUANTUM ALGORITHM SIMULATION ON CLASSICAL HARDWARE: SCALING AND NOISE ANALYSIS OF GROVER'S SEARCH WITH QISKIT | D13: MUHAMMET ARUCU, AHMET AKKAYA, MUSTAFA TAŞCI | E13: BANDIRMA ONYEDI EYLÜL UNIVERSITY | F13: TÜRKİYE
A14: =A13+TIME(0,10,0) -> 0.43055556 | B14: 2890 | C14: TIME-DEPENDENT QUANTUM TUNNELING OF GAUSSIAN WAVE PACKETS: A SPLIT-OPERATOR FOURIER METHOD STUDY | D14: MUHAMMET ARUCU, MUSTAFA TAŞCI, AHMET AKKAYA | E14: BANDIRMA ONYEDI EYLÜL UNIVERSITY | F14: TÜRKİYE
A15: =A14+TIME(0,10,0) -> 0.4375 | B15: 2921 | C15: PATTERN DISCOVERY IN NETWORK LAYERS: DATA MINING FOR DDOS ATTACK DETECTION | D15: EMINE YAMAN, FATIMA JICHI, SARA VATRIĆ, MEHMET AKIF YAMAN | E15: INTERNATIONAL UNIVERSITY OF SARAJEVO | F15: BOSNIA AND HERZEGOVINA
A16: =A15+TIME(0,10,0) -> 0.44444444 | B16: 2922 | C16: HEART DISEASE DIAGNOSIS PREDICTION WITH CART DECISION TREES AND NAÏVE BAYES ALGORITHM | D16: EMINE YAMAN, SADŽIDA VALJEVAC, AMINA DERVIŠIĆ, MEHMET AKIF YAMAN | E16: INTERNATIONAL UNIVERSITY OF SARAJEVO | F16: BOSNIA AND HERZEGOVINA
A17: B. ONLINE SESSION: ENERGY, MECHANICAL & STRUCTURAL ENGINEERING – CHAIR: ALMA LIGATA
A18: =A16+TIME(0,10,0) -> 0.45138889 | B18: 2879 | C18: ANALYSIS OF KEY COST COMPONENTS INCREASING THE VALUE OF LOST LOAD FOR SLOVENIAN HOUSEHOLD CONSUMERS | D18: JERNEJA BOGOVIČ, MARKO KOLENC, MILOŠ PANTOŠ | E18: UNIVERSITY OF LJUBLJANA; ELES, D.O.O. | F18: SLOVENIA
A19: =A18+TIME(0,10,0) -> 0.45833333 | B19: 2880 | C19: ESTIMATING THE TARIFF DIFFERENTIAL REQUIRED TO INDUCE LONG-TERM BEHAVIOURAL CHANGES IN RESIDENTIAL ELECTRICITY CONSUMPTION IN SLOVENIA | D19: JERNEJA BOGOVIČ, MARKO KOLENC, MILOŠ PANTOŠ | E19: UNIVERSITY OF LJUBLJANA; ELES, D.O.O. | F19: SLOVENIA
A20: =A19+TIME(0,10,0) -> 0.46527778 | B20: 1044 | C20: COMPRESSED AIR ENERGY STORAGE IMPLENTATION IN ABADONED MINES: THE CASE OF SELMECBÁNYA | D20: BENCE HERNÁDI | E20: UNIVERSITY OF PANNONIA | F20: HUNGARY
A21: =A20+TIME(0,10,0) -> 0.47222222 | B21: 2912 | C21: TRANSIENT 3D CFD ANALYSIS OF SQUEEZE FILM DAMPERS FOR DIFFERENT ECCENTRICITY RATIOS | D21: MITHAT MURAT YALCIN, BAHADIR DOGAN | E21: TUSAS MOTOR SANAYII (TEI); ESKISEHIR OSMANGAZI UNIVERSITY | F21: TÜRKİYE
A22: =A21+TIME(0,10,0) -> 0.47916667 | B22: 771 | C22: TRANSIENT 3D CFD ANALYSIS OF SQUEEZE FILM DAMPERS FOR DIFFERENT REYNOLDS NUMBERS | D22: MITHAT MURAT YALCIN, BAHADIR DOGAN | E22: TUSAS MOTOR SANAYII (TEI); ESKISEHIR OSMANGAZI UNIVERSITY | F22: TÜRKİYE
A23: =A22+TIME(0,10,0) -> 0.48611111 | B23: 2894 | C23: EXPERIMENTAL ANALYSIS OF NON-UNIFORM TEMPERATURE EFFECTS ON LAMB WAVE-BASED DAMAGE DETECTION | D23: FELIPE AUGUSTO BARNABE, FABRICIO GUIMARAES BAPTISTA | E23: SÃO PAULO STATE UNIVERSITY (UNESP) | F23: BRAZIL
A24: C. ONLINE SESSION: ENVIRONMENT, HEALTH & SOCIETY – CHAIR: ALMA LIGATA
A25: =A23+TIME(0,10,0) -> 0.49305556 | B25: 1043 | C25: ASSESSMENT OF NUISANCE AND ALLERGENIC ENVIRONMENTAL ODOUR SOURCES IN BUDAPEST | D25: BENCE HERNÁDI | E25: UNIVERSITY OF PANNONIA | F25: HUNGARY
A26: =A25+TIME(0,10,0) -> 0.5 | B26: 1051 | C26: ENHANCING WORKPLACE HEALTH THROUGH ACTIVE GREEN EXERCISE BREAKS IN PLANT-PURIFIED INDOOR ENVIRONMENTS | D26: SENKA BAJIĆ | E26: EDUCONS UNIVERSITY | F26: SERBIA
A27: =A26+TIME(0,10,0) -> 0.50694444 | B27: 1052 | C27: HEALTH AND URBAN FORESTS: EXPLORING THE ROLE OF NATURE EXPOSURE IN PROMOTING HEALTH AND WELL-BEING | D27: SENKA BAJIĆ | E27: EDUCONS UNIVERSITY | F27: SERBIA
A28: =A27+TIME(0,10,0) -> 0.51388889 | B28: 886 | C28: RE-EXAMINING BOARD GENDER DIVERSITY: A NON-LINEAR PERSPECTIVE ON CORPORATE ENVIRONMENTAL OUTCOMES | D28: HANNA LEE | E28: KOREA UNIVERSITY, SEJONG CAMPUS | F28: SOUTH KOREA
A29: =A28+TIME(0,10,0) -> 0.52083333 | B29: 2881 | C29: FORMALDEHYDE- AND EPICHLOROHYDRIN-CROSSLINKED SUGAR BEET PULP CATION EXCHANGE RESINS: STRUCTURAL MODIFICATION, ISOTHERMAL EQUILIBRIUM, AND HEAVY METAL SORPTION KINETICS | D29: HASAN, FERIDE N. TÜRK | E29: ÇANAKKALE ONSEKIZ MART UNIVERSITY; ÇANKIRI KARATEKIN UNIVERSITY | F29: TÜRKİYE
A30: =A29+TIME(0,10,0) -> 0.52777778 | B30: 2882 | C30: FUNCTIONALIZED AGRICULTURAL RESIDUE HYDROGELS FOR INDUSTRIAL STREAM PURIFICATION: CATION EXCHANGE SELECTIVITY, JUICE DECOLORIZATION, AND CRYSTALLIZATION IMPACT | D30: HASAN, FERIDE N. TÜRK | E30: ÇANAKKALE ONSEKIZ MART UNIVERSITY; ÇANKIRI KARATEKIN UNIVERSITY | F30: TÜRKİYE
A31: =A30+TIME(0,10,0) -> 0.53472222 | B31: 2883 | C31: SPECTROSCOPIC, MORPHOLOGICAL, AND ISOTHERMAL EVALUATION OF MODIFIED POLYMERIC BIO-SORBENTS DERIVED FROM AGRO-INDUSTRIAL WASTE FOR HEAVY METAL SEQUESTRATION | D31: FERIDE NAIME TÜRK, HASAN ARSLANOĞLU | E31: ÇANKIRI KARATEKIN UNIVERSITY; ÇANAKKALE ONSEKIZ MART UNIVERSITY | F31: TÜRKİYE
A32: =A31+TIME(0,10,0) -> 0.54166667 | B32: 2884 | C32: FIXED-BED COLUMN PERFORMANCE AND DESORPTION-REGENERATION DYNAMICS OF FUNCTIONALIZED CARBOHYDRATE-BASED RESINS FOR INDUSTRIAL WASTEWATER REMEDIATION | D32: FERIDE NAIME TÜRK, HASAN ARSLANOĞLU | E32: ÇANKIRI KARATEKIN UNIVERSITY; ÇANAKKALE ONSEKIZ MART UNIVERSITY | F32: TÜRKİYE
A33: =A32+TIME(0,10,0) -> 0.54861111 | B33: 1049 | C33: EUROPEAN CATFISH (SILURUS GLANIS) IN TÜRKİYE: PRODUCTION TRENDS AND AQUACULTURE POTENTIAL | D33: MERVE TINKIR | E33: ISTANBUL UNIVERSITY, FACULTY OF AQUATIC SCIENCES | F33: TÜRKİYE
A34: =A33+TIME(0,10,0) -> 0.55555556 | B34: 888 | C34: INFLAMMATORY BOWEL DISEASE IN EMERGING ECONOMIES: HEALTH SYSTEM SUSTAINABILITY THROUGH THE LENS OF SUSTAINABLE DEVELOPMENT GOAL 3 | D34: MEHMET AKIF VERAL | E34: LANCASTER UNIVERSITY, LANCASTER ENVIRONMENT CENTRE | F34: UNITED KINGDOM
A35: =A34+TIME(0,10,0) -> 0.5625 | B35: 1075 | C35: ENVIRONMENTAL POLLUTANTS AND INFLAMMATORY BOWEL DISEASE: A SHORT REVIEW OF THE EXPOSOME EVIDENCE | D35: MEHMET AKIF VERAL | E35: LANCASTER UNIVERSITY, LANCASTER ENVIRONMENT CENTRE | F35: UNITED KINGDOM
A36: =A35+TIME(0,10,0) -> 0.56944444 | B36: 2923 | C36: DIGITAL REGISTRIES AND ADMINISTRATIVE HEALTH DATA FOR INFLAMMATORY BOWEL DISEASE SURVEILLANCE: CASE DEFINITIONS, DATA LINKAGE AND DATA QUALITY | D36: MEHMET AKIF VERAL | E36: LANCASTER UNIVERSITY, LANCASTER ENVIRONMENT CENTRE | F36: UNITED KINGDOM
A37: =A36+TIME(0,10,0) -> 0.57638889 | B37: 1054 | C37: COMPARING CURVE NUMBER AND MODIFIED GREEN–AMPT INFILTRATION FOR HYDRAULIC CAPACITY ASSESSMENT: A MEDITERRANEAN WATERSHED CASE STUDY | D37: BURKAY KOKNAR, MAHMUT EKREM KARPUZCU | E37: İSTANBUL TECHNICAL UNIVERSITY | F37: TÜRKİYE
A38: =A37+TIME(0,10,0) -> 0.58333333 | B38: 1073 | C38: PFAS ANALYSIS IN FRESHWATER SYSTEMS: APPLICATION OF EPA METHOD 1633A TO LAKES DURUSU AND EGIRDIR | D38: BAHAR IKIZOGLU, SEVGİ SAVRAN | E38: SÜLEYMAN DEMIREL UNIVERSITY | F38: TÜRKİYE

Sheet Poster Presentations
A1: POSTER PRESENTATION SCHEDULE
A2: ='15 Oct 2026'!A2 -> THURSDAY, 15 OCTOBER 2026
A4: SESSION TIME | C4: 11:00 – 13:00
A5: VENUE | C5: YUNUS EMRE INSTITUTE SARAJEVO
A6: POSTER SET-UP | C6: 0.45833333
A7: POSTER REMOVAL | C7: 0.54166667
A8: NOTE | C8: PRESENTERS ARE KINDLY REQUESTED TO BE AT THEIR POSTERS THROUGHOUT THE SESSION.
A10: A. SESSION - POSTER PRESENTATIONS (11:00 - 13:00)
A11: NO | B11: CODE | C11: TITLE | D11: AUTHORS | E11: INSTITUTION | F11: COUNTRY
A12: PLANT PHYSIOLOGY & ABIOTIC STRESS (5 POSTERS)
A13: P01 | B13: 1055 | C13: PHYSIOLOGICAL AND BIOCHEMICAL RESPONSES TO OZONE EXPOSURE AND RECOVERY IN GALIUM VERUM AND HELICHRYSUM ITALICUM | D13: LUCIAN COPOLOVICI, ANDREEA LUPITU, FLAVIA BORTES, CRISTIAN MOISA, MARIA COJOCARU-TOMA, ANGELICA OHINDOVSCHI, MIHAELA NARTEA, DANA COPOLOVICI | E13: FACULTY OF FOOD ENGINEERING, TOURISM AND ENVIRONMENTAL PROTECTION, AUREL VLAICU UNIVERSITY OF ARAD, ROMANIA | F13: ROMANIA
A14: P02 | B14: 1057 | C14: INTEGRATED PHYSIOLOGICAL AND BIOCHEMICAL ASSESSMENT OF RADISH CULTIVAR RESILIENCE TO DROUGHT AND OZONE UNDER ELEVATED CARBON DIOXIDE | D14: FLAVIA BORTES, LUCIAN COPOLOVICI, CRISTIAN MOISA, ANDREEA LUPITU, DANA COPOLOVICI | E14: AUREL VLAICU UNIVERSITY OF ARAD | F14: ROMANIA
A15: P03 | B15: 1058 | C15: BETWEEN DROUGHT AND FLOODING: PHYSIOLOGICAL AND BIOCHEMICAL RESPONSES OF HELICHRYSUM ITALICUM TO CONTRASTING WATER EXTREMES | D15: FLAVIA BORTES, LUCIAN COPOLOVICI, CRISTIAN MOISA, ANDREEA LUPITU, MARIA COJOCARU-TOMA, MIHAELA NARTEA, ANGELICA OHINDOVSCHI, DANA COPOLOVICI | E15: AUREL VLAICU UNIVERSITY OF ARAD | F15: ROMANIA
A16: P04 | B16: 1066 | C16: STRUCTURAL AND PHYTOCHEMICAL TRAITS OF HELICHRYSUM IN RELATION TO ABIOTIC STRESS RESPONSES | D16: ANDREEA IOANA LUPITU, CRISTIAN MOISA, FLAVIA BORTES, MARIA COJOCARU-TOMA, ANGELICA OHINDOVSCHI, MIHAELA NARTEA, DANA COPOLOVICI, LUCIAN COPOLOVICI | E16: INSTITUTE FOR INTERDISCIPLINARY RESEARCH, AUREL VLAICU UNIVERSITY OF ARAD, ROMANIA | F16: ROMANIA
A17: P05 | B17: 1056 | C17: EFFECTS OF SEWAGE SLUDGE SOURCE AND APPLICATION RATE ON PHYSIOLOGICAL AND BIOCHEMICAL RESPONSES OF HELIANTHUS ANNUUS | D17: DENISA SNEJANA BACALU-RUS, ANDREEA LUPITU, FLAVIA BORTES, CRISTIAN MOISA, DANA COPOLOVICI, LUCIAN COPOLOVICI | E17: INTERDISCIPLINARY DOCTORAL SCHOOL OF "AUREL VLAICU" UNIVERSITY OF ARAD, ROMANIA | F17: ROMANIA
A18: ECOLOGY, BIODIVERSITY & URBAN ENVIRONMENT (4 POSTERS)
A19: P06 | B19: 1060 | C19: ASSESSMENT OF FOREST DECLINE IN THE MOHOȘ PEAT BOG | D19: ZOLTÁN-ZSOLT ÖRDÖG, ANDREEA-REBEKA ZSIGMOND, LIDIA-IRMA SZIGYÁRTÓ, ISTVÁN URÁK | E19: SAPIENTIA HUNGARIAN UNIVERSITY OF TRANSYLVANIA | F19: ROMANIA
A20: P07 | B20: 1059 | C20: EPIGEIC ARTHROPOD COMMUNITIES IN DIFFERENT HABITAT TYPES OF THE RECI NATURE RESERVE | D20: URÁK ISTVÁN, RÓBERT FERENCZ, NORBERT VLAD, ANDREEA-REBEKA ZSIGMOND | E20: SAPIENTIA HUNGARIAN UNIVERSITY OF TRANSYLVANIA | F20: ROMANIA
A21: P08 | B21: 2906 | C21: IMPLEMENTING "BUZZ LINES": MULTI-CRITERIA SPATIAL MODELING OF URBAN POLLINATOR HABITAT CONNECTIVITY AND RESTORATION PRIORITIES IN SARAJEVO | D21: ADI VESNIC, LEJLA SMAILAGIĆ VESNIĆ, SAMIR ĐUG | E21: UNIVERSITY OF SARAJEVO | F21: BOSNIA AND HERZEGOVINA
A22: P09 | B22: 1067 | C22: INDOOR AIR QUALITY IN RESIDENTIAL, OFFICE AND RETAIL ENVIRONMENTS: POLLUTANT VARIABILITY AND FORMALDEHYDE EXPOSURE | D22: ANDREEA IOANA LUPITU, CRISTIAN MOISA, FLAVIA BORTES, ANDREEA TEPENEU, LAURENTIU TIMIS, DANA COPOLOVICI, LUCIAN COPOLOVICI | E22: INSTITUTE FOR INTERDISCIPLINARY RESEARCH, AUREL VLAICU UNIVERSITY OF ARAD, ROMANIA | F22: ROMANIA
A23: BIORESOURCES & FOOD CHEMISTRY (2 POSTERS)
A24: P10 | B24: 1062 | C24: VALORIZATION OF HELIX POMATIA BY-PRODUCTS FOR SUSTAINABLE BIOTECHNOLOGICAL APPLICATIONS | D24: CRISTIAN MOISA, ANDREEA LUPITU, FLAVIA BORTES, LUCIAN COPOLOVICI, DANA COPOLOVICI | E24: INSTITUTE FOR INTERDISCIPLINARY RESEARCH, "AUREL VLAICU" UNIVERSITY OF ARAD, ELENA DRAGOI ST. 2, ARAD, 310330, ROMANIA | F24: ROMANIA
A25: P11 | B25: 1065 | C25: RED WINE DEALCOHOLISATION BY ROTARY EVAPORATION: CHANGES IN ANTIOXIDANT ACTIVITY, PHENOLIC CONTENT AND COLOUR | D25: CRISTIAN MOISA, CLAUDIA MURESAN, FLAVIA BORTES, ALEXANDRU GANCEA, SERGIU PALCU, DANA MARIA COPOLOVICI, LUCIAN COPOLOVICI, ANDREEA LUPITU | E25: INSTITUTE FOR INTERDISCIPLINARY RESEARCH, "AUREL VLAICU" UNIVERSITY OF ARAD | F25: ROMANIA
A26: CHEMICAL, NUCLEAR & MATERIALS ENGINEERING (5 POSTERS)
A27: P12 | B27: 2897 | C27: THE PROBLEM OF MINIMUM TIME IN BATCH DISTILLATION OF MULTICOMPONENT MIXTURES | D27: HADIHASANOVIC ADNAN, BIJEDIC MUHAMED | E27: PLAMINGO DOO, GRACANICA | F27: BOSNIA AND HERZEGOVINA
A28: P13 | B28: 2871 | C28: OPENMC ANALYSIS OF NEUTRON FLUX AND ABSORPTION DISTRIBUTIONS IN A SIMPLIFIED MSR PASSIVE DRAINAGE TANK WITH A TUNGSTEN CARBIDE (WC) SHELL BY USING THE CONSTANT SOURCE APPROACH | D28: MIKAIL DIREKCI | E28: YOZGAT | F28: TÜRKİYE
A29: P14 | B29: 2874 | C29: ANALYSIS OF THE THREE-DIMENSIONAL AXIAL DEPTH SCAN OF A B4C CONTROL ROD IN A UTHO₂-FUELED BWR-TYPE LIGHT-WATER REACTOR USING THE OPENMC CODE | D29: MIKAIL DIREKCI | E29: YOZGAT | F29: TÜRKİYE
A30: P15 | B30: 2885 | C30: CHARACTERIZATION OF AL2O3/NI/TI COMPOSITES FABRICATED VIA THE SLIP CASTING METHOD | D30: MARCIN WACHOWSKI, JUSTYNA ZYGMUNTOWICZ, VOLODYMYR HUTSAYLYUK | E30: MILITARY UNIVERSITY OF TECHNOLOGY, WARSAW, POLAND | F30: POLAND
A31: P16 | B31: 2892 | C31: EVALUATION OF THE MECHANICAL PROPERTIES OF AA2024 ALLOY JOINTS PRODUCED BY FRICTION STIR WELDING UNDER COMBINED LOADING CONDITIONS AT HIGH STRAIN RATES | D31: VOLODYMYR HUTSAYLYUK, ANDRII BLAVITSKYI | E31: MILITARY UNIVERSITY OF TECHNOLOGY | F31: POLAND
